BEGIN:VCALENDAR
VERSION:2.0
PRODID:-//Lavéli - ECPv6.15.20//NONSGML v1.0//EN
CALSCALE:GREGORIAN
METHOD:PUBLISH
X-ORIGINAL-URL:https://www.laveli.fr
X-WR-CALDESC:Évènements pour Lavéli
REFRESH-INTERVAL;VALUE=DURATION:PT1H
X-Robots-Tag:noindex
X-PUBLISHED-TTL:PT1H
BEGIN:VTIMEZONE
TZID:Europe/Paris
BEGIN:DAYLIGHT
TZOFFSETFROM:+0100
TZOFFSETTO:+0200
TZNAME:CEST
DTSTART:20200329T010000
END:DAYLIGHT
BEGIN:STANDARD
TZOFFSETFROM:+0200
TZOFFSETTO:+0100
TZNAME:CET
DTSTART:20201025T010000
END:STANDARD
BEGIN:DAYLIGHT
TZOFFSETFROM:+0100
TZOFFSETTO:+0200
TZNAME:CEST
DTSTART:20210328T010000
END:DAYLIGHT
BEGIN:STANDARD
TZOFFSETFROM:+0200
TZOFFSETTO:+0100
TZNAME:CET
DTSTART:20211031T010000
END:STANDARD
BEGIN:DAYLIGHT
TZOFFSETFROM:+0100
TZOFFSETTO:+0200
TZNAME:CEST
DTSTART:20220327T010000
END:DAYLIGHT
BEGIN:STANDARD
TZOFFSETFROM:+0200
TZOFFSETTO:+0100
TZNAME:CET
DTSTART:20221030T010000
END:STANDARD
END:VTIMEZONE
BEGIN:VEVENT
DTSTART;TZID=Europe/Paris:20210626T200000
DTEND;TZID=Europe/Paris:20210626T213000
DTSTAMP:20260423T114542
CREATED:20210608T191733Z
LAST-MODIFIED:20210624T150815Z
UID:646-1624737600-1624743000@www.laveli.fr
SUMMARY:Chant'gement de programme
DESCRIPTION:Les Phonies Polies de retour en salle !!!
URL:https://www.laveli.fr/event/chantgement-de-programme/
LOCATION:Chapelle du Prado\, 9 rue Père Chevrier\, Lyon\, Rhône\, 69007\, France
CATEGORIES:Concert,Spectacle
ATTACH;FMTTYPE=image/jpeg:https://www.laveli.fr/wp-content/uploads/2021/06/IMG_1567-1024x683-1.jpg
ORGANIZER;CN="Choeur des Phonies Polies":MAILTO:phoniespolies@gmail.com
END:VEVENT
END:VCALENDAR