BEGIN:VCALENDAR
VERSION:2.0
PRODID:-//Lavéli - ECPv6.15.20//NONSGML v1.0//EN
CALSCALE:GREGORIAN
METHOD:PUBLISH
X-WR-CALNAME:Lavéli
X-ORIGINAL-URL:https://www.laveli.fr
X-WR-CALDESC:Évènements pour Lavéli
REFRESH-INTERVAL;VALUE=DURATION:PT1H
X-Robots-Tag:noindex
X-PUBLISHED-TTL:PT1H
BEGIN:VTIMEZONE
TZID:Europe/Paris
BEGIN:DAYLIGHT
TZOFFSETFROM:+0100
TZOFFSETTO:+0200
TZNAME:CEST
DTSTART:20200329T010000
END:DAYLIGHT
BEGIN:STANDARD
TZOFFSETFROM:+0200
TZOFFSETTO:+0100
TZNAME:CET
DTSTART:20201025T010000
END:STANDARD
BEGIN:DAYLIGHT
TZOFFSETFROM:+0100
TZOFFSETTO:+0200
TZNAME:CEST
DTSTART:20210328T010000
END:DAYLIGHT
BEGIN:STANDARD
TZOFFSETFROM:+0200
TZOFFSETTO:+0100
TZNAME:CET
DTSTART:20211031T010000
END:STANDARD
BEGIN:DAYLIGHT
TZOFFSETFROM:+0100
TZOFFSETTO:+0200
TZNAME:CEST
DTSTART:20220327T010000
END:DAYLIGHT
BEGIN:STANDARD
TZOFFSETFROM:+0200
TZOFFSETTO:+0100
TZNAME:CET
DTSTART:20221030T010000
END:STANDARD
END:VTIMEZONE
BEGIN:VEVENT
DTSTART;TZID=Europe/Paris:20210712T080000
DTEND;TZID=Europe/Paris:20210718T170000
DTSTAMP:20260423T100909
CREATED:20210312T173439Z
LAST-MODIFIED:20210624T150253Z
UID:69-1626076800-1626627600@www.laveli.fr
SUMMARY:Stage Caméléon
DESCRIPTION:Stage de chant choral d’une semaine\, choeur le matin\, ensemble à un par voix et technique vocale l’après-midi.
URL:https://www.laveli.fr/event/stages-dete/
LOCATION:Maison Dub’\, Tonvic\, Chaumont le Bourg\, France
CATEGORIES:Concert,Stage
ATTACH;FMTTYPE=image/png:https://www.laveli.fr/wp-content/uploads/2021/04/Photo-choeur-01.png
END:VEVENT
BEGIN:VEVENT
DTSTART;TZID=Europe/Paris:20210717T203000
DTEND;TZID=Europe/Paris:20210717T223000
DTSTAMP:20260423T100909
CREATED:20210624T152238Z
LAST-MODIFIED:20210624T152306Z
UID:734-1626553800-1626561000@www.laveli.fr
SUMMARY:Concert Caméléon
DESCRIPTION:Une semaine intense de travail\, les cordes vocales et les oreilles au sommet de leur forme\, les stagiaires vous présentent leurs oeuvres !
URL:https://www.laveli.fr/event/concert-cameleon/
LOCATION:La Grange d’Hélène\, Mozun\, La Chaise Dieu\, 43160
CATEGORIES:Concert,Stage
ORGANIZER;CN="H%C3%A9l%C3%A8ne Cauet":MAILTO:h.cauet2@orange.fr
END:VEVENT
END:VCALENDAR