BEGIN:VCALENDAR
VERSION:2.0
PRODID:-//Lavéli - ECPv6.15.20//NONSGML v1.0//EN
CALSCALE:GREGORIAN
METHOD:PUBLISH
X-ORIGINAL-URL:https://www.laveli.fr
X-WR-CALDESC:Évènements pour Lavéli
REFRESH-INTERVAL;VALUE=DURATION:PT1H
X-Robots-Tag:noindex
X-PUBLISHED-TTL:PT1H
BEGIN:VTIMEZONE
TZID:Europe/Paris
BEGIN:DAYLIGHT
TZOFFSETFROM:+0100
TZOFFSETTO:+0200
TZNAME:CEST
DTSTART:20210328T010000
END:DAYLIGHT
BEGIN:STANDARD
TZOFFSETFROM:+0200
TZOFFSETTO:+0100
TZNAME:CET
DTSTART:20211031T010000
END:STANDARD
BEGIN:DAYLIGHT
TZOFFSETFROM:+0100
TZOFFSETTO:+0200
TZNAME:CEST
DTSTART:20220327T010000
END:DAYLIGHT
BEGIN:STANDARD
TZOFFSETFROM:+0200
TZOFFSETTO:+0100
TZNAME:CET
DTSTART:20221030T010000
END:STANDARD
BEGIN:DAYLIGHT
TZOFFSETFROM:+0100
TZOFFSETTO:+0200
TZNAME:CEST
DTSTART:20230326T010000
END:DAYLIGHT
BEGIN:STANDARD
TZOFFSETFROM:+0200
TZOFFSETTO:+0100
TZNAME:CET
DTSTART:20231029T010000
END:STANDARD
END:VTIMEZONE
BEGIN:VEVENT
DTSTART;VALUE=DATE:20220115
DTEND;VALUE=DATE:20220116
DTSTAMP:20260423T005426
CREATED:20211128T134940Z
LAST-MODIFIED:20211128T145449Z
UID:947-1642204800-1642291199@www.laveli.fr
SUMMARY:Concert des Phonies Polies
DESCRIPTION:Si vous les avez manqués lors de leur déambulation dans les rues de Lyon le samedi 11 décembre 2021 ou simplement si cet avant-goût vous aura donné envie d’en entendre davantage\, alors venez écouter le concert du chœur des Phonies Polies le samedi 15 janvier 2022 ! Le concert aura lieu à Nivolas-Vermelle (Isère) et se fera en commun avec un autre chœur… (plus d’informations à venir)\nLe premier événement de l’année à noter dans votre agenda ! \nPrécisions à venir prochainement.
URL:https://www.laveli.fr/event/concert-des-phonies-polies/
LOCATION:Nivolas-Vermelle\, France
CATEGORIES:Concert
END:VEVENT
END:VCALENDAR