BEGIN:VCALENDAR
VERSION:2.0
PRODID:-//Lavéli - ECPv6.15.20//NONSGML v1.0//EN
CALSCALE:GREGORIAN
METHOD:PUBLISH
X-WR-CALNAME:Lavéli
X-ORIGINAL-URL:https://www.laveli.fr
X-WR-CALDESC:Évènements pour Lavéli
REFRESH-INTERVAL;VALUE=DURATION:PT1H
X-Robots-Tag:noindex
X-PUBLISHED-TTL:PT1H
BEGIN:VTIMEZONE
TZID:Europe/Paris
BEGIN:DAYLIGHT
TZOFFSETFROM:+0100
TZOFFSETTO:+0200
TZNAME:CEST
DTSTART:20210328T010000
END:DAYLIGHT
BEGIN:STANDARD
TZOFFSETFROM:+0200
TZOFFSETTO:+0100
TZNAME:CET
DTSTART:20211031T010000
END:STANDARD
BEGIN:DAYLIGHT
TZOFFSETFROM:+0100
TZOFFSETTO:+0200
TZNAME:CEST
DTSTART:20220327T010000
END:DAYLIGHT
BEGIN:STANDARD
TZOFFSETFROM:+0200
TZOFFSETTO:+0100
TZNAME:CET
DTSTART:20221030T010000
END:STANDARD
BEGIN:DAYLIGHT
TZOFFSETFROM:+0100
TZOFFSETTO:+0200
TZNAME:CEST
DTSTART:20230326T010000
END:DAYLIGHT
BEGIN:STANDARD
TZOFFSETFROM:+0200
TZOFFSETTO:+0100
TZNAME:CET
DTSTART:20231029T010000
END:STANDARD
END:VTIMEZONE
BEGIN:VEVENT
DTSTART;TZID=Europe/Paris:20220618T200000
DTEND;TZID=Europe/Paris:20220619T213000
DTSTAMP:20260422T165233
CREATED:20211128T143628Z
LAST-MODIFIED:20220615T223221Z
UID:965-1655582400-1655674200@www.laveli.fr
SUMMARY:Les Chants Olympiques des Phonies Polies
DESCRIPTION:Ne rate pas ta dernière chance de la saison 2021-2022 pour venir écouter le chœur des Phonies Polies à la Chapelle du Prado\, Lyon 7e ! Et ramène tes potes ! \nDeux concerts sont prévus\, l’un le samedi à 20h et l’autre le dimanche à 17h. A vos agendas 😉 \nLe lien de réservation pour le samedi : https://www.helloasso.com/associations/la-voix-est-libre-laveli/evenements/chants-olympiques-samedi-18-juin \nLe lien de réservation pour le dimanche : https://www.helloasso.com/associations/la-voix-est-libre-laveli/evenements/chants-olympiques-dimanche-19-juin \n 
URL:https://www.laveli.fr/event/les-chants-olympiques-des-phonies-polies-4/
LOCATION:Chapelle du Prado\, 9 rue Père Chevrier\, Lyon\, Rhône\, 69007\, France
CATEGORIES:Concert
END:VEVENT
END:VCALENDAR