BEGIN:VCALENDAR
VERSION:2.0
PRODID:-//Lavéli - ECPv6.15.20//NONSGML v1.0//EN
CALSCALE:GREGORIAN
METHOD:PUBLISH
X-WR-CALNAME:Lavéli
X-ORIGINAL-URL:https://www.laveli.fr
X-WR-CALDESC:Évènements pour Lavéli
REFRESH-INTERVAL;VALUE=DURATION:PT1H
X-Robots-Tag:noindex
X-PUBLISHED-TTL:PT1H
BEGIN:VTIMEZONE
TZID:Europe/Paris
BEGIN:DAYLIGHT
TZOFFSETFROM:+0100
TZOFFSETTO:+0200
TZNAME:CEST
DTSTART:20210328T010000
END:DAYLIGHT
BEGIN:STANDARD
TZOFFSETFROM:+0200
TZOFFSETTO:+0100
TZNAME:CET
DTSTART:20211031T010000
END:STANDARD
BEGIN:DAYLIGHT
TZOFFSETFROM:+0100
TZOFFSETTO:+0200
TZNAME:CEST
DTSTART:20220327T010000
END:DAYLIGHT
BEGIN:STANDARD
TZOFFSETFROM:+0200
TZOFFSETTO:+0100
TZNAME:CET
DTSTART:20221030T010000
END:STANDARD
BEGIN:DAYLIGHT
TZOFFSETFROM:+0100
TZOFFSETTO:+0200
TZNAME:CEST
DTSTART:20230326T010000
END:DAYLIGHT
BEGIN:STANDARD
TZOFFSETFROM:+0200
TZOFFSETTO:+0100
TZNAME:CET
DTSTART:20231029T010000
END:STANDARD
END:VTIMEZONE
BEGIN:VEVENT
DTSTART;TZID=Europe/Paris:20220716T080000
DTEND;TZID=Europe/Paris:20220722T170000
DTSTAMP:20260422T152538
CREATED:20211128T144706Z
LAST-MODIFIED:20220318T143655Z
UID:974-1657958400-1658509200@www.laveli.fr
SUMMARY:Résidence Voix-là\, Voix-là
DESCRIPTION:Les inscriptions sont d’ores et déjà ouvertes ! \nLa résidence aura lieu du samedi 16 au vendredi 22 juillet 2022\, au programme du chant choral bien sûr mais aussi beaucoup de bonne humeur au cœur d’un paysage au combien bucolique. Cette année\, le répertoire s’articule autour du thème du feu 🔥🔥🔥 \nUn concert sera organisé à la fin de la semaine pour concrétiser l’investissement et mettre le 🔥 sur scène. \nToutes les infos disponibles sur la page des résidences d’été 2022
URL:https://www.laveli.fr/event/residence-voix-la-voix-la/
LOCATION:Saint-Symphorien-de-Lay
END:VEVENT
END:VCALENDAR