BEGIN:VCALENDAR
VERSION:2.0
PRODID:-//Lavéli - ECPv6.15.20//NONSGML v1.0//EN
CALSCALE:GREGORIAN
METHOD:PUBLISH
X-ORIGINAL-URL:https://www.laveli.fr
X-WR-CALDESC:Évènements pour Lavéli
REFRESH-INTERVAL;VALUE=DURATION:PT1H
X-Robots-Tag:noindex
X-PUBLISHED-TTL:PT1H
BEGIN:VTIMEZONE
TZID:Europe/Paris
BEGIN:DAYLIGHT
TZOFFSETFROM:+0100
TZOFFSETTO:+0200
TZNAME:CEST
DTSTART:20220327T010000
END:DAYLIGHT
BEGIN:STANDARD
TZOFFSETFROM:+0200
TZOFFSETTO:+0100
TZNAME:CET
DTSTART:20221030T010000
END:STANDARD
BEGIN:DAYLIGHT
TZOFFSETFROM:+0100
TZOFFSETTO:+0200
TZNAME:CEST
DTSTART:20230326T010000
END:DAYLIGHT
BEGIN:STANDARD
TZOFFSETFROM:+0200
TZOFFSETTO:+0100
TZNAME:CET
DTSTART:20231029T010000
END:STANDARD
BEGIN:DAYLIGHT
TZOFFSETFROM:+0100
TZOFFSETTO:+0200
TZNAME:CEST
DTSTART:20240331T010000
END:DAYLIGHT
BEGIN:STANDARD
TZOFFSETFROM:+0200
TZOFFSETTO:+0100
TZNAME:CET
DTSTART:20241027T010000
END:STANDARD
END:VTIMEZONE
BEGIN:VEVENT
DTSTART;TZID=Europe/Paris:20230709T080000
DTEND;TZID=Europe/Paris:20230715T170000
DTSTAMP:20260421T185054
CREATED:20220908T133148Z
LAST-MODIFIED:20230427T091022Z
UID:1365-1688889600-1689440400@www.laveli.fr
SUMMARY:Résidence Voix-là\, voix-là
DESCRIPTION:
URL:https://www.laveli.fr/event/residence-voix-la-voix-la-2/
LOCATION:Saint-Symphorien-de-Lay
CATEGORIES:Stage
ATTACH;FMTTYPE=image/png:https://www.laveli.fr/wp-content/uploads/2022/09/affiche_residences.png
END:VEVENT
END:VCALENDAR