BEGIN:VCALENDAR
VERSION:2.0
PRODID:-//Lavéli - ECPv6.15.20//NONSGML v1.0//EN
CALSCALE:GREGORIAN
METHOD:PUBLISH
X-ORIGINAL-URL:https://www.laveli.fr
X-WR-CALDESC:Évènements pour Lavéli
REFRESH-INTERVAL;VALUE=DURATION:PT1H
X-Robots-Tag:noindex
X-PUBLISHED-TTL:PT1H
BEGIN:VTIMEZONE
TZID:Europe/Paris
BEGIN:DAYLIGHT
TZOFFSETFROM:+0100
TZOFFSETTO:+0200
TZNAME:CEST
DTSTART:20210328T010000
END:DAYLIGHT
BEGIN:STANDARD
TZOFFSETFROM:+0200
TZOFFSETTO:+0100
TZNAME:CET
DTSTART:20211031T010000
END:STANDARD
BEGIN:DAYLIGHT
TZOFFSETFROM:+0100
TZOFFSETTO:+0200
TZNAME:CEST
DTSTART:20220327T010000
END:DAYLIGHT
BEGIN:STANDARD
TZOFFSETFROM:+0200
TZOFFSETTO:+0100
TZNAME:CET
DTSTART:20221030T010000
END:STANDARD
BEGIN:DAYLIGHT
TZOFFSETFROM:+0100
TZOFFSETTO:+0200
TZNAME:CEST
DTSTART:20230326T010000
END:DAYLIGHT
BEGIN:STANDARD
TZOFFSETFROM:+0200
TZOFFSETTO:+0100
TZNAME:CET
DTSTART:20231029T010000
END:STANDARD
END:VTIMEZONE
BEGIN:VEVENT
DTSTART;TZID=Europe/Paris:20220907T200000
DTEND;TZID=Europe/Paris:20221005T220000
DTSTAMP:20260421T180552
CREATED:20220908T131503Z
LAST-MODIFIED:20230328T211343Z
UID:1344-1662580800-1665007200@www.laveli.fr
SUMMARY:Recrutement Phonies Polies
DESCRIPTION:Le choeur des Phonies Polies recrute pour la saison 2022-2023 : \n\n5 sopranos\n5 altos\n5 ténors\n1 basse\n\nRépétitions ouvertes et auditions tout le mois de septembre\, au 5 rue Père Chevrier\, Lyon 7. Si vous êtes intéressés\, venez simplement.
URL:https://www.laveli.fr/event/recrutement-phonies-polies/
LOCATION:Chapelle du Prado\, 9 rue Père Chevrier\, Lyon\, Rhône\, 69007\, France
CATEGORIES:Concert,Phonies Polies
ORGANIZER;CN="Choeur des Phonies Polies":MAILTO:phoniespolies@gmail.com
END:VEVENT
END:VCALENDAR