BEGIN:VCALENDAR
VERSION:2.0
PRODID:-//Lavéli - ECPv6.15.20//NONSGML v1.0//EN
CALSCALE:GREGORIAN
METHOD:PUBLISH
X-WR-CALNAME:Lavéli
X-ORIGINAL-URL:https://www.laveli.fr
X-WR-CALDESC:Évènements pour Lavéli
REFRESH-INTERVAL;VALUE=DURATION:PT1H
X-Robots-Tag:noindex
X-PUBLISHED-TTL:PT1H
BEGIN:VTIMEZONE
TZID:Europe/Paris
BEGIN:DAYLIGHT
TZOFFSETFROM:+0100
TZOFFSETTO:+0200
TZNAME:CEST
DTSTART:20210328T010000
END:DAYLIGHT
BEGIN:STANDARD
TZOFFSETFROM:+0200
TZOFFSETTO:+0100
TZNAME:CET
DTSTART:20211031T010000
END:STANDARD
BEGIN:DAYLIGHT
TZOFFSETFROM:+0100
TZOFFSETTO:+0200
TZNAME:CEST
DTSTART:20220327T010000
END:DAYLIGHT
BEGIN:STANDARD
TZOFFSETFROM:+0200
TZOFFSETTO:+0100
TZNAME:CET
DTSTART:20221030T010000
END:STANDARD
BEGIN:DAYLIGHT
TZOFFSETFROM:+0100
TZOFFSETTO:+0200
TZNAME:CEST
DTSTART:20230326T010000
END:DAYLIGHT
BEGIN:STANDARD
TZOFFSETFROM:+0200
TZOFFSETTO:+0100
TZNAME:CET
DTSTART:20231029T010000
END:STANDARD
END:VTIMEZONE
BEGIN:VEVENT
DTSTART;TZID=Europe/Paris:20220508T170000
DTEND;TZID=Europe/Paris:20220508T183000
DTSTAMP:20260422T153735
CREATED:20220508T073220Z
LAST-MODIFIED:20220508T073401Z
UID:1197-1652029200-1652034600@www.laveli.fr
SUMMARY:Iels en Boivent !
DESCRIPTION:Apéro-spectacle de chansons à boire a cappella\, de la renaissance à aujourd’hui. Come on ! \nLes choristes en pleine action !
URL:https://www.laveli.fr/event/iels-en-boivent/
LOCATION:Tiers-Lieu de la MArtinière\, Ambierle\, Lieu-dit la Martinière\, Ambierle\, 42820\, France
CATEGORIES:Concert
ORGANIZER;CN="Iels en Voix":MAILTO:ielsenvoix@laveli.fr
END:VEVENT
END:VCALENDAR