BEGIN:VCALENDAR
VERSION:2.0
PRODID:-//Lavéli - ECPv6.15.20//NONSGML v1.0//EN
CALSCALE:GREGORIAN
METHOD:PUBLISH
X-WR-CALNAME:Lavéli
X-ORIGINAL-URL:https://www.laveli.fr
X-WR-CALDESC:Évènements pour Lavéli
REFRESH-INTERVAL;VALUE=DURATION:PT1H
X-Robots-Tag:noindex
X-PUBLISHED-TTL:PT1H
BEGIN:VTIMEZONE
TZID:Europe/Paris
BEGIN:DAYLIGHT
TZOFFSETFROM:+0100
TZOFFSETTO:+0200
TZNAME:CEST
DTSTART:20210328T010000
END:DAYLIGHT
BEGIN:STANDARD
TZOFFSETFROM:+0200
TZOFFSETTO:+0100
TZNAME:CET
DTSTART:20211031T010000
END:STANDARD
BEGIN:DAYLIGHT
TZOFFSETFROM:+0100
TZOFFSETTO:+0200
TZNAME:CEST
DTSTART:20220327T010000
END:DAYLIGHT
BEGIN:STANDARD
TZOFFSETFROM:+0200
TZOFFSETTO:+0100
TZNAME:CET
DTSTART:20221030T010000
END:STANDARD
BEGIN:DAYLIGHT
TZOFFSETFROM:+0100
TZOFFSETTO:+0200
TZNAME:CEST
DTSTART:20230326T010000
END:DAYLIGHT
BEGIN:STANDARD
TZOFFSETFROM:+0200
TZOFFSETTO:+0100
TZNAME:CET
DTSTART:20231029T010000
END:STANDARD
END:VTIMEZONE
BEGIN:VEVENT
DTSTART;TZID=Europe/Paris:20220701T203000
DTEND;TZID=Europe/Paris:20220701T213000
DTSTAMP:20260422T134933
CREATED:20220621T144245Z
LAST-MODIFIED:20220621T144245Z
UID:1268-1656707400-1656711000@www.laveli.fr
SUMMARY:Concert Iels En Boivent à la Chapelle du Prado
DESCRIPTION:Vous nous avez ratés à la Grange à Liens ? Vous n’avez pas pu faire le voyage jusqu’au cuvage de François Chabré ?\nQu’à cela ne tienne\, Iels En Boivent donne une dernière représentation le 1er juillet prochain\, à Lyon ! Ce sera au Prado\, à 20h30.\nNous serions ravis de vous y voir nombreux ! \nEntrée libre\, prix conseillé 10€\nRéservation possible mais pas obligatoire ici : https://www.helloasso.com/associations/la-voix-est-libre-laveli/evenements/iels-en-boivent-1er-juillet
URL:https://www.laveli.fr/event/concert-iels-en-boivent-a-la-chapelle-du-prado/
LOCATION:Chapelle du Prado\, 9 rue Père Chevrier\, Lyon\, Rhône\, 69007\, France
END:VEVENT
BEGIN:VEVENT
DTSTART;TZID=Europe/Paris:20220707T080000
DTEND;TZID=Europe/Paris:20220710T170000
DTSTAMP:20260422T134933
CREATED:20211128T144020Z
LAST-MODIFIED:20211128T144020Z
UID:968-1657180800-1657472400@www.laveli.fr
SUMMARY:10 ans de Lavéli
DESCRIPTION:De belles surprises sont en préparation pour fêter comme il se doit l’anniversaire des 10 ans de Lavéli ! 🎂🎈🤡 \nOn vous en dit plus très bientôt\, mais d’ici là\, réservez votre disponibilité !
URL:https://www.laveli.fr/event/10-ans-de-laveli/
END:VEVENT
BEGIN:VEVENT
DTSTART;TZID=Europe/Paris:20220716T080000
DTEND;TZID=Europe/Paris:20220722T170000
DTSTAMP:20260422T134933
CREATED:20211128T144706Z
LAST-MODIFIED:20220318T143655Z
UID:974-1657958400-1658509200@www.laveli.fr
SUMMARY:Résidence Voix-là\, Voix-là
DESCRIPTION:Les inscriptions sont d’ores et déjà ouvertes ! \nLa résidence aura lieu du samedi 16 au vendredi 22 juillet 2022\, au programme du chant choral bien sûr mais aussi beaucoup de bonne humeur au cœur d’un paysage au combien bucolique. Cette année\, le répertoire s’articule autour du thème du feu 🔥🔥🔥 \nUn concert sera organisé à la fin de la semaine pour concrétiser l’investissement et mettre le 🔥 sur scène. \nToutes les infos disponibles sur la page des résidences d’été 2022
URL:https://www.laveli.fr/event/residence-voix-la-voix-la/
LOCATION:Saint-Symphorien-de-Lay
END:VEVENT
BEGIN:VEVENT
DTSTART;TZID=Europe/Paris:20220721T203000
DTEND;TZID=Europe/Paris:20220721T213000
DTSTAMP:20260422T134933
CREATED:20220714T175557Z
LAST-MODIFIED:20220714T175557Z
UID:1282-1658435400-1658439000@www.laveli.fr
SUMMARY:Concert Feu de voix 🔥
DESCRIPTION:Le concert de la résidence d’été va mettre le feu 🔥 à l’église de Saint-Symphorien-de-Lay\, à 20h30 ce jeudi 21 juillet !\nParticipation libre.
URL:https://www.laveli.fr/event/concert-feu-de-voix-%f0%9f%94%a5/
LOCATION:Saint-Symphorien-de-Lay
CATEGORIES:Concert
END:VEVENT
BEGIN:VEVENT
DTSTART;TZID=Europe/Paris:20220725T080000
DTEND;TZID=Europe/Paris:20220731T190000
DTSTAMP:20260422T134933
CREATED:20211128T144340Z
LAST-MODIFIED:20220318T143327Z
UID:970-1658736000-1659294000@www.laveli.fr
SUMMARY:Résidence Caméléon
DESCRIPTION:Les inscriptions de la résidence Caméléon sont ouvertes ! \nElle se déroulera du lundi 25 au dimanche 31 juillet 2022 à Saint-Symphorien-de-Lay\, dans la Loire. Les inscriptions étant limitées à 24 personnes\, dépêchez-vous de réserver votre place pour vivre une semaine de chant sur le thème de l’Orient Express\, le voi(x)yage en adressant un mail à residences@laveli.fr .\n \nPlus d’infos sur la page des résidences d’été 2022.
URL:https://www.laveli.fr/event/residence-cameleon/
LOCATION:Saint-Symphorien-de-Lay
END:VEVENT
BEGIN:VEVENT
DTSTART;TZID=Europe/Paris:20220730T203000
DTEND;TZID=Europe/Paris:20220730T213000
DTSTAMP:20260422T134933
CREATED:20220714T180427Z
LAST-MODIFIED:20220714T180427Z
UID:1284-1659213000-1659216600@www.laveli.fr
SUMMARY:Dernier concert de la saison
DESCRIPTION:Le concert de la résidence d’été sous la thématique « Voix-yage » sera le dernier de la saison\, une raison supplémentaire de ne surtout pas le manquer ! Alors préparez votre baluchon\, l’excursion en vaut la peine ! 👜
URL:https://www.laveli.fr/event/dernier-concert-de-la-saison/
LOCATION:Saint-Symphorien-de-Lay
END:VEVENT
END:VCALENDAR