BEGIN:VCALENDAR
VERSION:2.0
PRODID:-//Lavéli - ECPv6.15.20//NONSGML v1.0//EN
CALSCALE:GREGORIAN
METHOD:PUBLISH
X-ORIGINAL-URL:https://www.laveli.fr
X-WR-CALDESC:Évènements pour Lavéli
REFRESH-INTERVAL;VALUE=DURATION:PT1H
X-Robots-Tag:noindex
X-PUBLISHED-TTL:PT1H
BEGIN:VTIMEZONE
TZID:Europe/Paris
BEGIN:DAYLIGHT
TZOFFSETFROM:+0100
TZOFFSETTO:+0200
TZNAME:CEST
DTSTART:20220327T010000
END:DAYLIGHT
BEGIN:STANDARD
TZOFFSETFROM:+0200
TZOFFSETTO:+0100
TZNAME:CET
DTSTART:20221030T010000
END:STANDARD
BEGIN:DAYLIGHT
TZOFFSETFROM:+0100
TZOFFSETTO:+0200
TZNAME:CEST
DTSTART:20230326T010000
END:DAYLIGHT
BEGIN:STANDARD
TZOFFSETFROM:+0200
TZOFFSETTO:+0100
TZNAME:CET
DTSTART:20231029T010000
END:STANDARD
BEGIN:DAYLIGHT
TZOFFSETFROM:+0100
TZOFFSETTO:+0200
TZNAME:CEST
DTSTART:20240331T010000
END:DAYLIGHT
BEGIN:STANDARD
TZOFFSETFROM:+0200
TZOFFSETTO:+0100
TZNAME:CET
DTSTART:20241027T010000
END:STANDARD
END:VTIMEZONE
BEGIN:VEVENT
DTSTART;TZID=Europe/Paris:20230119T190000
DTEND;TZID=Europe/Paris:20230119T220000
DTSTAMP:20260422T031719
CREATED:20221227T151824Z
LAST-MODIFIED:20221227T202713Z
UID:1562-1674154800-1674165600@www.laveli.fr
SUMMARY:Galette des bénévoles Allez'Chants
DESCRIPTION:Que vous soyez adhérent.e à la Lavéli ou non\, que vous chantiez ou non\, que vous ayez peu ou beaucoup de temps à donner\, si vous souhaitez vous engager pour le festival Allez’Chants\, venez partager la galette des bénévoles ! Nous vous présenterons le festival et la place que vous pourrez y prendre selon vos envies. Pour vous inscrire : 0633509081
URL:https://www.laveli.fr/event/galette-des-benevoles-allezchants/
LOCATION:Debourg\, Du côté de Debourg\, Lyon\, 69007\, France
END:VEVENT
BEGIN:VEVENT
DTSTART;TZID=Europe/Paris:20230128T173000
DTEND;TZID=Europe/Paris:20230128T190000
DTSTAMP:20260422T031719
CREATED:20220908T131836Z
LAST-MODIFIED:20230328T211343Z
UID:1348-1674927000-1674932400@www.laveli.fr
SUMMARY:Concert de rue des Phonies Polies
DESCRIPTION:Un concert bravant le froid polaire dans les rues de Lyon 7e
URL:https://www.laveli.fr/event/animation-musicale/
LOCATION:Lyon 7e\, 690007
CATEGORIES:Concert,Phonies Polies
END:VEVENT
END:VCALENDAR