BEGIN:VCALENDAR
VERSION:2.0
PRODID:-//Lavéli - ECPv6.15.20//NONSGML v1.0//EN
CALSCALE:GREGORIAN
METHOD:PUBLISH
X-WR-CALNAME:Lavéli
X-ORIGINAL-URL:https://www.laveli.fr
X-WR-CALDESC:Évènements pour Lavéli
REFRESH-INTERVAL;VALUE=DURATION:PT1H
X-Robots-Tag:noindex
X-PUBLISHED-TTL:PT1H
BEGIN:VTIMEZONE
TZID:Europe/Paris
BEGIN:DAYLIGHT
TZOFFSETFROM:+0100
TZOFFSETTO:+0200
TZNAME:CEST
DTSTART:20220327T010000
END:DAYLIGHT
BEGIN:STANDARD
TZOFFSETFROM:+0200
TZOFFSETTO:+0100
TZNAME:CET
DTSTART:20221030T010000
END:STANDARD
BEGIN:DAYLIGHT
TZOFFSETFROM:+0100
TZOFFSETTO:+0200
TZNAME:CEST
DTSTART:20230326T010000
END:DAYLIGHT
BEGIN:STANDARD
TZOFFSETFROM:+0200
TZOFFSETTO:+0100
TZNAME:CET
DTSTART:20231029T010000
END:STANDARD
BEGIN:DAYLIGHT
TZOFFSETFROM:+0100
TZOFFSETTO:+0200
TZNAME:CEST
DTSTART:20240331T010000
END:DAYLIGHT
BEGIN:STANDARD
TZOFFSETFROM:+0200
TZOFFSETTO:+0100
TZNAME:CET
DTSTART:20241027T010000
END:STANDARD
END:VTIMEZONE
BEGIN:VEVENT
DTSTART;VALUE=DATE:20230506
DTEND;VALUE=DATE:20230507
DTSTAMP:20260421T221643
CREATED:20221218T095431Z
LAST-MODIFIED:20230427T090817Z
UID:1546-1683331200-1683417599@www.laveli.fr
SUMMARY:Bal folk à la Grange à Liens (Lay)
DESCRIPTION:
URL:https://www.laveli.fr/event/bal-folk-a-la-grange-a-liens-lay/
LOCATION:La Grange à Liens\, Dorthoray\, Lay\, 42470\, France
CATEGORIES:Bal Folk,Iels en Voix,Représentation
ATTACH;FMTTYPE=image/jpeg:https://www.laveli.fr/wp-content/uploads/2022/12/Affiche-2-bals-pour-un-soir-page-001.jpg
ORGANIZER;CN="Iels en Voix":MAILTO:ielsenvoix@laveli.fr
END:VEVENT
BEGIN:VEVENT
DTSTART;TZID=Europe/Paris:20230508T150000
DTEND;TZID=Europe/Paris:20230508T173000
DTSTAMP:20260421T221643
CREATED:20230427T090618Z
LAST-MODIFIED:20230427T090619Z
UID:1953-1683558000-1683567000@www.laveli.fr
SUMMARY:Bal folk Iels en Voix
DESCRIPTION:
URL:https://www.laveli.fr/event/bal-folk-iels-en-voix/
LOCATION:Préau de l’ITEP du Prado\, 5 rue Père Chevrier\, Lyon\, 69007
CATEGORIES:Bal Folk,Iels en Voix,Représentation
ATTACH;FMTTYPE=image/jpeg:https://www.laveli.fr/wp-content/uploads/2023/04/Affiche-concert-mai-2023v2-page-001.jpg
END:VEVENT
BEGIN:VEVENT
DTSTART;TZID=Europe/Paris:20230527T080000
DTEND;TZID=Europe/Paris:20230529T190000
DTSTAMP:20260421T221643
CREATED:20220908T132609Z
LAST-MODIFIED:20230427T091422Z
UID:1358-1685174400-1685386800@www.laveli.fr
SUMMARY:Festival Allez'Chants
DESCRIPTION:10 ans de vie associative\, ça se fête ! \nEn chantant et en partageant ! \nEt donc\, en avant pour trois jours de festivités chantantes publiques à Marcilly-le-Châtel ! \nLien vers la billetterie : https://fr.ulule.com/festival-allez-chants/
URL:https://www.laveli.fr/event/festival-allezchants/
LOCATION:Grandes Rases\, Marcilly-le-Châtel\, France
CATEGORIES:Animation,Atelier,Concert,Représentation,Spectacle
ATTACH;FMTTYPE=image/png:https://www.laveli.fr/wp-content/uploads/2023/02/AllezChant.png
END:VEVENT
BEGIN:VEVENT
DTSTART;TZID=Europe/Paris:20230527T200000
DTEND;TZID=Europe/Paris:20230528T020000
DTSTAMP:20260421T221643
CREATED:20230519T184039Z
LAST-MODIFIED:20230519T184039Z
UID:2059-1685217600-1685239200@www.laveli.fr
SUMMARY:Iels en Dansent : le dernier bal !
DESCRIPTION:
URL:https://www.laveli.fr/event/iels-en-dansent-le-dernier-bal/
LOCATION:Grandes Rases\, Marcilly-le-Châtel\, France
CATEGORIES:Bal Folk,Festival Allez'Chants,Iels en Voix
ATTACH;FMTTYPE=image/jpeg:https://www.laveli.fr/wp-content/uploads/2023/05/Affiche-bal-folk.jpg
END:VEVENT
BEGIN:VEVENT
DTSTART;TZID=Europe/Paris:20230529T150000
DTEND;TZID=Europe/Paris:20230529T170000
DTSTAMP:20260421T221643
CREATED:20230519T184425Z
LAST-MODIFIED:20230519T191844Z
UID:2062-1685372400-1685379600@www.laveli.fr
SUMMARY:Aux Chants\, spectacle vocal et vente de rêves !
DESCRIPTION:Les Phonies Polies et l’Alterchorale se rassemblent pour cloturer en beauté le festival Allez’Chants !!!
URL:https://www.laveli.fr/event/aux-chants-spectacle-vocal-et-vente-de-reves/
LOCATION:Grandes Rases\, Marcilly-le-Châtel\, France
CATEGORIES:Alterchorale,Concert,Festival Allez'Chants,Phonies Polies
ATTACH;FMTTYPE=image/png:https://www.laveli.fr/wp-content/uploads/2023/05/concert-de-cloture.png
END:VEVENT
END:VCALENDAR